BEGIN:VCALENDAR
VERSION:2.0
PRODID:-//eventon.com NONSGML v1.0//EN
CALSCALE:GREGORIAN
METHOD:PUBLISH
BEGIN:VEVENT
UID:69e572e1c6b9b
DTSTAMP:20260420T002713Z
DTSTART:20260425T020000Z
DTEND:20260425T045900Z
LOCATION:
SUMMARY:90's KID
DESCRIPTION:\nhttps://captainsgetaway.com/events/90s-kid/
URL:https://captainsgetaway.com/events/90s-kid/
END:VEVENT
END:VCALENDAR