BEGIN:VCALENDAR
VERSION:2.0
PRODID:-//eventon.com NONSGML v1.0//EN
CALSCALE:GREGORIAN
METHOD:PUBLISH
BEGIN:VEVENT
UID:69e5eaa52847a
DTSTAMP:20260420T085813Z
DTSTART:20260418T020000Z
DTEND:20260418T045900Z
LOCATION:
SUMMARY:Skitzo Fonik
DESCRIPTION:\nhttps://captainsgetaway.com/events/skitzo-fonik-21/
URL:https://captainsgetaway.com/events/skitzo-fonik-21/
END:VEVENT
END:VCALENDAR