BEGIN:VCALENDAR
VERSION:2.0
PRODID:-//eventon.com NONSGML v1.0//EN
CALSCALE:GREGORIAN
METHOD:PUBLISH
BEGIN:VEVENT
UID:69eba1b21bf6b
DTSTAMP:20260424T170034Z
DTSTART:20251026T020000Z
DTEND:20251026T045900Z
LOCATION:
SUMMARY:Six to Midnight
DESCRIPTION:\nhttps://captainsgetaway.com/events/six-to-midnight-4/
URL:https://captainsgetaway.com/events/six-to-midnight-4/
END:VEVENT
END:VCALENDAR